BEGIN:VCALENDAR
PRODID:-//PUBBLE//agenda//NL
VERSION:2.0
METHOD:PUBLISH
BEGIN:VEVENT
DTSTART:20251215T145423Z
DTEND:20251215T155423Z
DTSTAMP:20260424T145742Z
UID:2777d1e1-d1a5-4f28-b571-89069c235847
CREATED:20260424T145742Z
NAME:Kerstbingo en Rad van fortuin, 20 december in SCC ‘t gebouw houtensnieuws.nl
X-WR-CALNAME:Kerstbingo en Rad van fortuin, 20 december in SCC ‘t gebouw
X-ALT-DESC;FMTTYPE=text/html:<a href='/agenda/2025/12/20/kerstbingo-en-rad-van-fortuin-20-december-in-scc-t-gebouw-1234753'>/agenda/2025/12/20/kerstbingo-en-rad-van-fortuin-20-december-in-scc-t-gebouw-1234753</a> || <p>We beginnen de avond om 18:30 met een lampionnenoptocht, die begint bij de school. En zullen eindigen bij SCC ‘t gebouw. Van 19:00 tot 20:00 start kinderbingoOm 20:00 een filmavond voor tieners, film wordt dan uitgekozen. En om 21:00 beginnen we met het rad van fortuin. Met ook dit jaar vele mooie prijzen, met o.a vleesprijzen, kerststukjes, een duo airfryer en een koffiemachine. Zet je mooiste kerstmuts op en kom allemaal langs.&nbsp;</p><p>Het oranje comité wenst iedereen fijne feestdagen en een voorspoedig en gezond 2026.</p>
DESCRIPTION:<a href='/agenda/2025/12/20/kerstbingo-en-rad-van-fortuin-20-december-in-scc-t-gebouw-1234753'>/agenda/2025/12/20/kerstbingo-en-rad-van-fortuin-20-december-in-scc-t-gebouw-1234753</a> || <p>We beginnen de avond om 18:30 met een lampionnenoptocht, die begint bij de school. En zullen eindigen bij SCC ‘t gebouw. Van 19:00 tot 20:00 start kinderbingoOm 20:00 een filmavond voor tieners, film wordt dan uitgekozen. En om 21:00 beginnen we met het rad van fortuin. Met ook dit jaar vele mooie prijzen, met o.a vleesprijzen, kerststukjes, een duo airfryer en een koffiemachine. Zet je mooiste kerstmuts op en kom allemaal langs.&nbsp;</p><p>Het oranje comité wenst iedereen fijne feestdagen en een voorspoedig en gezond 2026.</p>
LAST-MODIFIED:20260424T145742Z
LOCATION: Het Gebouw |   Schalkwijk Tull en 't Waal
SEQUENCE:0
STATUS:CONFIRMED
SUMMARY:Kerstbingo en Rad van fortuin, 20 december in SCC ‘t gebouw
TRANSP:OPAQUE
END:VEVENT
END:VCALENDAR
