BEGIN:VCALENDAR
PRODID:-//PUBBLE//agenda//NL
VERSION:2.0
METHOD:PUBLISH
BEGIN:VEVENT
DTSTART:20251220T130000Z
DTEND:20251220T140000Z
DTSTAMP:20260424T145454Z
UID:9edcc007-2adf-4731-8179-1a072a48ee02
CREATED:20260424T145454Z
NAME:Kerstsamenzang op de Brink in Schalkwijk houtensnieuws.nl
X-WR-CALNAME:Kerstsamenzang op de Brink in Schalkwijk
X-ALT-DESC;FMTTYPE=text/html:<a href='/agenda/2025/12/20/kerstsamenzang-op-de-brink-in-schalkwijk-1234591'>/agenda/2025/12/20/kerstsamenzang-op-de-brink-in-schalkwijk-1234591</a> || <p>Dit jaar wordt de kerstsamenzang in de Brinkkerk gehouden. Deze samenzang is een initiatief van de Hervormde Gemeente en de R.K. Geloofsgemeenschap H. Michaël. Dit jaar zal de samenzang begeleid worden door organist Jelle Hiemstra en leden van de muziekvereniging Caecilia. Na de samenzang is er gelegenheid om met elkaar een glaasje glühwein of chocolademelk te drinken.</p>
DESCRIPTION:<a href='/agenda/2025/12/20/kerstsamenzang-op-de-brink-in-schalkwijk-1234591'>/agenda/2025/12/20/kerstsamenzang-op-de-brink-in-schalkwijk-1234591</a> || <p>Dit jaar wordt de kerstsamenzang in de Brinkkerk gehouden. Deze samenzang is een initiatief van de Hervormde Gemeente en de R.K. Geloofsgemeenschap H. Michaël. Dit jaar zal de samenzang begeleid worden door organist Jelle Hiemstra en leden van de muziekvereniging Caecilia. Na de samenzang is er gelegenheid om met elkaar een glaasje glühwein of chocolademelk te drinken.</p>
LAST-MODIFIED:20260424T145454Z
LOCATION: Brinkkerk  | Brink 10 Schalkwijk Tull en 't Waal
SEQUENCE:0
STATUS:CONFIRMED
SUMMARY:Kerstsamenzang op de Brink in Schalkwijk
TRANSP:OPAQUE
END:VEVENT
END:VCALENDAR
