BEGIN:VCALENDAR
PRODID:-//PUBBLE//agenda//NL
VERSION:2.0
METHOD:PUBLISH
BEGIN:VEVENT
DTSTART:20251201T112713Z
DTEND:20251201T122713Z
DTSTAMP:20260424T145621Z
UID:a8863311-3992-4719-a959-4f5c17300c42
CREATED:20260424T145621Z
NAME:Unieke kerstrondleidingen in de RK-kerk van Houten houtensnieuws.nl
X-WR-CALNAME:Unieke kerstrondleidingen in de RK-kerk van Houten
X-ALT-DESC;FMTTYPE=text/html:<a href='/agenda/2025/12/21/unieke-kerstrondleidingen-in-de-rk-kerk-van-houten-1230236'>/agenda/2025/12/21/unieke-kerstrondleidingen-in-de-rk-kerk-van-houten-1230236</a> || <p><strong>Op zondag 21 december 2025 organiseert de kerk aan de Loerikseweg twee speciale Kerstrondleidingen: om 12.00 en om 14.30 uur. Bent u benieuwd naar de betekenis achter de kerststal, het feestelijk gewaad van de priester met Kerstmis en de verwijzingen in de kerk naar de geboorte van Jezus? Tijdens deze rondleidingen krijgt u antwoord op deze en vele andere vragen. Grijp nu deze&nbsp;</strong><strong>unieke kans om het kerstverhaal te beleven in een sfeervolle, historische sfeer.</strong></p><p>De RK-Kerk aan de Loerikseweg is ontworpen door een gerenommeerd architect en ontstaan in een periode van maatschappelijke onrust. Het kerkgebouw kent een rijke historie en unieke kenmerken. Tijdens de rondleiding komen het kerstverhaal en het boeiende verleden van de kerk op een bijzondere wijze samen.</p><p><strong>Deelname is gratis. Aanmelden is verplicht - i.v.m. inplannen van de gidsen - </strong>en kan eenvoudig door een e-mail te sturen naar wegvangeloven@gmail.com. Wilt u daarbij het gewenste tijdstip en het aantal personen vermelden?</p><p><em>Wees welkom!<br>Werkgroep de Kerkgidsen</em></p>
DESCRIPTION:<a href='/agenda/2025/12/21/unieke-kerstrondleidingen-in-de-rk-kerk-van-houten-1230236'>/agenda/2025/12/21/unieke-kerstrondleidingen-in-de-rk-kerk-van-houten-1230236</a> || <p><strong>Op zondag 21 december 2025 organiseert de kerk aan de Loerikseweg twee speciale Kerstrondleidingen: om 12.00 en om 14.30 uur. Bent u benieuwd naar de betekenis achter de kerststal, het feestelijk gewaad van de priester met Kerstmis en de verwijzingen in de kerk naar de geboorte van Jezus? Tijdens deze rondleidingen krijgt u antwoord op deze en vele andere vragen. Grijp nu deze&nbsp;</strong><strong>unieke kans om het kerstverhaal te beleven in een sfeervolle, historische sfeer.</strong></p><p>De RK-Kerk aan de Loerikseweg is ontworpen door een gerenommeerd architect en ontstaan in een periode van maatschappelijke onrust. Het kerkgebouw kent een rijke historie en unieke kenmerken. Tijdens de rondleiding komen het kerstverhaal en het boeiende verleden van de kerk op een bijzondere wijze samen.</p><p><strong>Deelname is gratis. Aanmelden is verplicht - i.v.m. inplannen van de gidsen - </strong>en kan eenvoudig door een e-mail te sturen naar wegvangeloven@gmail.com. Wilt u daarbij het gewenste tijdstip en het aantal personen vermelden?</p><p><em>Wees welkom!<br>Werkgroep de Kerkgidsen</em></p>
LAST-MODIFIED:20260424T145621Z
LOCATION: RK Kerk Onze Lieve Vrouwe Ten Hemelopneming | Loerikseweg 12 Houten
SEQUENCE:0
STATUS:CONFIRMED
SUMMARY:Unieke kerstrondleidingen in de RK-kerk van Houten
TRANSP:OPAQUE
END:VEVENT
END:VCALENDAR
