BEGIN:VCALENDAR
PRODID:-//PUBBLE//agenda//NL
VERSION:2.0
METHOD:PUBLISH
BEGIN:VEVENT
DTSTART:20251001T170000Z
DTEND:20251010T183000Z
DTSTAMP:20260421T020901Z
UID:042f6558-2adf-4c55-982d-6d20358bccf4
CREATED:20260421T020901Z
NAME:Wil je ook vers eten van je eigen boerderij? houtensnieuws.nl
X-WR-CALNAME:Wil je ook vers eten van je eigen boerderij?
X-ALT-DESC;FMTTYPE=text/html:<a href='/agenda/2025/10/1/wil-je-ook-vers-eten-van-je-eigen-boerderij--1209498'>/agenda/2025/10/1/wil-je-ook-vers-eten-van-je-eigen-boerderij--1209498</a> || <p><strong>Het Herenboerenconcept</strong></p><p>Leden van Herenboerderij ‘t Tullse veld genieten ook dit seizoen weer van verse groenten, kruiden en bloemen rechtstreeks van eigen land. Als Herenboer(in) ben je eigenaar, ondernemer, producent én consument van je éigen boerderij. &nbsp;Een Herenboerderij werkt natuur-inclusief en hanteert de standaard die geldt voor biologische producten als ondergrens. Een gezonde bodem, een goed leven voor de dieren, meer biodiversiteit en toewerken naar een gesloten kringloop, zijn daarbij de uitgangspunten. Het bestuur vertegenwoordigt de leden. De boer levert de basis van de arbeid op de boerderij. Herenboeren helpen graag mee op het land of in een werkgroep. Meedoen maakt meer mogelijk en is ook nog eens ontzettend leuk en leerzaam. De boerderij is een bruisende plek waar je elkaar en de boer ontmoet. Wekelijks kun je je oogstdeel, bestaande uit verse seizoensproducten, ophalen.&nbsp;</p><p>De Herenboerderij bevindt zich in Tull en ‘t Waal tussen de Waalseweg en de Lekdijk. De boerderij bestaat uit maar liefst 25 hectare en ligt op een prachtige locatie.&nbsp;</p><p><strong>Interesse?</strong></p><p>We hebben weer ruimte voor nieuwe leden. Meedoen begint met het bijwonen van een informatiebijeenkomst waarin alles wordt verteld over onze Herenboerderij. Als je enthousiast bent kun je instappen door eenmalig inleggeld te betalen. Daarnaast betaal je een wekelijkse bijdrage per deelnemer uit je gezin.&nbsp;</p><p>Op 1, 3, 6, 8 en 10 oktober organiseren we informatiebijeenkomsten op onze boerderij in Tull en ‘t Waal. Inschrijven voor een informatiebijeenkomst kan via <a data-fr-linked="true" href="https://tullseveld.herenboeren.nl" target="_blank">https://tullseveld.herenboeren.nl</a></p><p>We kijken uit naar je komst!</p>
DESCRIPTION:<a href='/agenda/2025/10/1/wil-je-ook-vers-eten-van-je-eigen-boerderij--1209498'>/agenda/2025/10/1/wil-je-ook-vers-eten-van-je-eigen-boerderij--1209498</a> || <p><strong>Het Herenboerenconcept</strong></p><p>Leden van Herenboerderij ‘t Tullse veld genieten ook dit seizoen weer van verse groenten, kruiden en bloemen rechtstreeks van eigen land. Als Herenboer(in) ben je eigenaar, ondernemer, producent én consument van je éigen boerderij. &nbsp;Een Herenboerderij werkt natuur-inclusief en hanteert de standaard die geldt voor biologische producten als ondergrens. Een gezonde bodem, een goed leven voor de dieren, meer biodiversiteit en toewerken naar een gesloten kringloop, zijn daarbij de uitgangspunten. Het bestuur vertegenwoordigt de leden. De boer levert de basis van de arbeid op de boerderij. Herenboeren helpen graag mee op het land of in een werkgroep. Meedoen maakt meer mogelijk en is ook nog eens ontzettend leuk en leerzaam. De boerderij is een bruisende plek waar je elkaar en de boer ontmoet. Wekelijks kun je je oogstdeel, bestaande uit verse seizoensproducten, ophalen.&nbsp;</p><p>De Herenboerderij bevindt zich in Tull en ‘t Waal tussen de Waalseweg en de Lekdijk. De boerderij bestaat uit maar liefst 25 hectare en ligt op een prachtige locatie.&nbsp;</p><p><strong>Interesse?</strong></p><p>We hebben weer ruimte voor nieuwe leden. Meedoen begint met het bijwonen van een informatiebijeenkomst waarin alles wordt verteld over onze Herenboerderij. Als je enthousiast bent kun je instappen door eenmalig inleggeld te betalen. Daarnaast betaal je een wekelijkse bijdrage per deelnemer uit je gezin.&nbsp;</p><p>Op 1, 3, 6, 8 en 10 oktober organiseren we informatiebijeenkomsten op onze boerderij in Tull en ‘t Waal. Inschrijven voor een informatiebijeenkomst kan via <a data-fr-linked="true" href="https://tullseveld.herenboeren.nl" target="_blank">https://tullseveld.herenboeren.nl</a></p><p>We kijken uit naar je komst!</p>
LAST-MODIFIED:20260421T020901Z
LOCATION: 't Goy/Schalwijk/Tull en 't Waal |   Houten
SEQUENCE:0
STATUS:CONFIRMED
SUMMARY:Wil je ook vers eten van je eigen boerderij?
TRANSP:OPAQUE
END:VEVENT
END:VCALENDAR
